BEGIN:VCALENDAR
VERSION:2.0
PRODID:www.schachklub-joehlingen.de
BEGIN:VEVENT
UID:af0cfae7-5c82-4bcf-9d3d-d2847bbfc39a
DTSTART;VALUE=DATE:20230908
SEQUENCE:0
TRANSP:OPAQUE
DTEND;VALUE=DATE:20230909
URL:http://www.schachklub-joehlingen.de//turnier/23/Vereinsturnier?mp=verei
 n_23
SUMMARY:Vereinsturnier Runde 1
CLASS:PUBLIC
X-MICROSOFT-CDO-ALLDAYEVENT:TRUE
DTSTAMP:20260419T201421Z
END:VEVENT
BEGIN:VEVENT
UID:af0cfae7-5c82-4bcf-9d3d-d2847bbfc39b
DTSTART;VALUE=DATE:20230922
SEQUENCE:0
TRANSP:OPAQUE
DTEND;VALUE=DATE:20230923
URL:http://www.schachklub-joehlingen.de//turnier/23/Vereinsturnier?mp=verei
 n_23
SUMMARY:Vereinsturnier Runde 2
CLASS:PUBLIC
X-MICROSOFT-CDO-ALLDAYEVENT:TRUE
DTSTAMP:20260419T201421Z
END:VEVENT
BEGIN:VEVENT
UID:af0cfae7-5c82-4bcf-9d3d-d2847bbfc39c
DTSTART;VALUE=DATE:20231013
SEQUENCE:0
TRANSP:OPAQUE
DTEND;VALUE=DATE:20231014
URL:http://www.schachklub-joehlingen.de//turnier/23/Vereinsturnier?mp=verei
 n_23
SUMMARY:Vereinsturnier Runde 3
CLASS:PUBLIC
X-MICROSOFT-CDO-ALLDAYEVENT:TRUE
DTSTAMP:20260419T201421Z
END:VEVENT
BEGIN:VEVENT
UID:af0cfae7-5c82-4bcf-9d3d-d2847bbfc39d
DTSTART;VALUE=DATE:20231027
SEQUENCE:0
TRANSP:OPAQUE
DTEND;VALUE=DATE:20231028
SUMMARY:Oktoberfest
CLASS:PUBLIC
X-MICROSOFT-CDO-ALLDAYEVENT:TRUE
DTSTAMP:20260419T201421Z
END:VEVENT
BEGIN:VEVENT
UID:af0cfae7-5c82-4bcf-9d3d-d2847bbfc39e
DTSTART;VALUE=DATE:20231110
SEQUENCE:0
TRANSP:OPAQUE
DTEND;VALUE=DATE:20231111
URL:http://www.schachklub-joehlingen.de//turnier/23/Vereinsturnier?mp=verei
 n_23
SUMMARY:Vereinsturnier Runde 4
CLASS:PUBLIC
X-MICROSOFT-CDO-ALLDAYEVENT:TRUE
DTSTAMP:20260419T201421Z
END:VEVENT
BEGIN:VEVENT
UID:af0cfae7-5c82-4bcf-9d3d-d2847bbfc39f
DTSTART;VALUE=DATE:20231201
SEQUENCE:0
TRANSP:OPAQUE
DTEND;VALUE=DATE:20231202
URL:http://www.schachklub-joehlingen.de//turnier/23/Vereinsturnier?mp=verei
 n_23
SUMMARY:Vereinsturnier Runde 5
CLASS:PUBLIC
X-MICROSOFT-CDO-ALLDAYEVENT:TRUE
DTSTAMP:20260419T201421Z
END:VEVENT
END:VCALENDAR