BEGIN:VCALENDAR
VERSION:2.0
PRODID:www.schachklub-joehlingen.de
BEGIN:VEVENT
UID:af0cfae7-5c82-4bcf-9d3d-d2847bbfc365
DTSTART;VALUE=DATE:20220910
SEQUENCE:0
TRANSP:OPAQUE
DTEND;VALUE=DATE:20220911
URL:https://www.schachklub-joehlingen.de/turnier/22/Vereinsturnier?mp=verei
 n_22
SUMMARY:Anmeldeschluß Vereinsturnier
CLASS:PUBLIC
X-MICROSOFT-CDO-ALLDAYEVENT:TRUE
DTSTAMP:20260419T201607Z
END:VEVENT
BEGIN:VEVENT
UID:af0cfae7-5c82-4bcf-9d3d-d2847bbfc366
DTSTART;VALUE=DATE:20220916
SEQUENCE:0
TRANSP:OPAQUE
DTEND;VALUE=DATE:20220917
URL:https://www.schachklub-joehlingen.de/turnier/22/Vereinsturnier?mp=verei
 n_22
SUMMARY:Vereinsturnier Runde 1
CLASS:PUBLIC
X-MICROSOFT-CDO-ALLDAYEVENT:TRUE
DTSTAMP:20260419T201607Z
END:VEVENT
BEGIN:VEVENT
UID:af0cfae7-5c82-4bcf-9d3d-d2847bbfc371
DTSTART;VALUE=DATE:20220930
SEQUENCE:0
TRANSP:OPAQUE
DTEND;VALUE=DATE:20221001
URL:http://www.schachklub-joehlingen.de//turnier/22/Vereinsturnier?mp=verei
 n_22
SUMMARY:Vereinsturnier Runde 2
CLASS:PUBLIC
X-MICROSOFT-CDO-ALLDAYEVENT:TRUE
DTSTAMP:20260419T201607Z
END:VEVENT
BEGIN:VEVENT
UID:af0cfae7-5c82-4bcf-9d3d-d2847bbfc372
DTSTART;VALUE=DATE:20221021
SEQUENCE:0
TRANSP:OPAQUE
DTEND;VALUE=DATE:20221022
URL:http://www.schachklub-joehlingen.de//turnier/22/Vereinsturnier?mp=verei
 n_22
SUMMARY:Vereinsturnier Runde 3
CLASS:PUBLIC
X-MICROSOFT-CDO-ALLDAYEVENT:TRUE
DTSTAMP:20260419T201607Z
END:VEVENT
BEGIN:VEVENT
UID:af0cfae7-5c82-4bcf-9d3d-d2847bbfc373
DTSTART;VALUE=DATE:20221111
SEQUENCE:0
TRANSP:OPAQUE
DTEND;VALUE=DATE:20221112
URL:http://www.schachklub-joehlingen.de//turnier/22/Vereinsturnier?mp=verei
 n_22
SUMMARY:Vereinsturnier Runde 4
CLASS:PUBLIC
X-MICROSOFT-CDO-ALLDAYEVENT:TRUE
DTSTAMP:20260419T201607Z
END:VEVENT
BEGIN:VEVENT
UID:af0cfae7-5c82-4bcf-9d3d-d2847bbfc374
DTSTART;VALUE=DATE:20221202
SEQUENCE:0
TRANSP:OPAQUE
DTEND;VALUE=DATE:20221203
URL:http://www.schachklub-joehlingen.de//turnier/22/Vereinsturnier?mp=verei
 n_22
SUMMARY:Vereinsturnier Runde 5
CLASS:PUBLIC
X-MICROSOFT-CDO-ALLDAYEVENT:TRUE
DTSTAMP:20260419T201607Z
END:VEVENT
END:VCALENDAR