BEGIN:VCALENDAR
VERSION:2.0
PRODID:www.schachklub-joehlingen.de
BEGIN:VEVENT
UID:af0cfae7-5c82-4bcf-9d3d-d2847bbfc32d
DTSTART;VALUE=DATE:20190913
SEQUENCE:0
TRANSP:OPAQUE
DTEND;VALUE=DATE:20190914
URL:http://www.schachklub-joehlingen.de/turnier/19/Vereinsturnier?mp=verein
 _19
SUMMARY:Vereinsturnier Runde 1
CLASS:PUBLIC
X-MICROSOFT-CDO-ALLDAYEVENT:TRUE
DTSTAMP:20260419T201741Z
END:VEVENT
BEGIN:VEVENT
UID:af0cfae7-5c82-4bcf-9d3d-d2847bbfc32e
DTSTART;VALUE=DATE:20190927
SEQUENCE:0
TRANSP:OPAQUE
DTEND;VALUE=DATE:20190928
URL:http://www.schachklub-joehlingen.de/turnier/19/Vereinsturnier?mp=verein
 _19
SUMMARY:Vereinsturnier Runde 2
CLASS:PUBLIC
X-MICROSOFT-CDO-ALLDAYEVENT:TRUE
DTSTAMP:20260419T201741Z
END:VEVENT
BEGIN:VEVENT
UID:af0cfae7-5c82-4bcf-9d3d-d2847bbfc330
DTSTART;VALUE=DATE:20191025
SEQUENCE:0
TRANSP:OPAQUE
DTEND;VALUE=DATE:20191026
URL:http://www.schachklub-joehlingen.de/turnier/19/Vereinsturnier?mp=verein
 _19
SUMMARY:Vereinsturnier Runde 3
CLASS:PUBLIC
X-MICROSOFT-CDO-ALLDAYEVENT:TRUE
DTSTAMP:20260419T201741Z
END:VEVENT
BEGIN:VEVENT
UID:af0cfae7-5c82-4bcf-9d3d-d2847bbfc333
DTSTART;VALUE=DATE:20191115
SEQUENCE:0
TRANSP:OPAQUE
DTEND;VALUE=DATE:20191116
URL:http://www.schachklub-joehlingen.de/turnier/19/Vereinsturnier?mp=verein
 _19
SUMMARY:Vereinsturnier Runde 4
CLASS:PUBLIC
X-MICROSOFT-CDO-ALLDAYEVENT:TRUE
DTSTAMP:20260419T201741Z
END:VEVENT
BEGIN:VEVENT
UID:af0cfae7-5c82-4bcf-9d3d-d2847bbfc332
DTSTART;VALUE=DATE:20191213
SEQUENCE:0
TRANSP:OPAQUE
DTEND;VALUE=DATE:20191214
URL:http://www.schachklub-joehlingen.de/turnier/19/Vereinsturnier?mp=verein
 _19
SUMMARY:Vereinsturnier Runde 5
CLASS:PUBLIC
X-MICROSOFT-CDO-ALLDAYEVENT:TRUE
DTSTAMP:20260419T201741Z
END:VEVENT
END:VCALENDAR