BEGIN:VCALENDAR
VERSION:2.0
PRODID:www.schachklub-joehlingen.de
BEGIN:VEVENT
UID:af0cfae7-5c82-4bcf-9d3d-d2847bbfc2f8
DTSTART;VALUE=DATE:20180914
SEQUENCE:0
TRANSP:OPAQUE
DTEND;VALUE=DATE:20180915
URL:http://www.schachklub-joehlingen.de/turnier/1819/Vereinsturnier?mp=vere
 in18_19
SUMMARY:Vereinsturnier Runde 1
CLASS:PUBLIC
X-MICROSOFT-CDO-ALLDAYEVENT:TRUE
DTSTAMP:20260419T201243Z
END:VEVENT
BEGIN:VEVENT
UID:af0cfae7-5c82-4bcf-9d3d-d2847bbfc300
DTSTART;VALUE=DATE:20180928
SEQUENCE:0
TRANSP:OPAQUE
DTEND;VALUE=DATE:20180929
URL:http://www.schachklub-joehlingen.de/turnier/1819/Vereinsturnier?mp=vere
 in18_19
SUMMARY:Nachholabend
CLASS:PUBLIC
X-MICROSOFT-CDO-ALLDAYEVENT:TRUE
DTSTAMP:20260419T201243Z
END:VEVENT
BEGIN:VEVENT
UID:af0cfae7-5c82-4bcf-9d3d-d2847bbfc2f9
DTSTART;VALUE=DATE:20181005
SEQUENCE:0
TRANSP:OPAQUE
DTEND;VALUE=DATE:20181006
URL:http://www.schachklub-joehlingen.de/turnier/1819/Vereinsturnier?mp=vere
 in18_19
SUMMARY:Vereinsturnier Runde 2
CLASS:PUBLIC
X-MICROSOFT-CDO-ALLDAYEVENT:TRUE
DTSTAMP:20260419T201243Z
END:VEVENT
BEGIN:VEVENT
UID:af0cfae7-5c82-4bcf-9d3d-d2847bbfc301
DTSTART;VALUE=DATE:20181012
SEQUENCE:0
TRANSP:OPAQUE
DTEND;VALUE=DATE:20181013
URL:http://www.schachklub-joehlingen.de/turnier/1819/Vereinsturnier?mp=vere
 in18_19
SUMMARY:Nachholabend
CLASS:PUBLIC
X-MICROSOFT-CDO-ALLDAYEVENT:TRUE
DTSTAMP:20260419T201243Z
END:VEVENT
BEGIN:VEVENT
UID:af0cfae7-5c82-4bcf-9d3d-d2847bbfc302
DTSTART;VALUE=DATE:20181026
SEQUENCE:0
TRANSP:OPAQUE
DTEND;VALUE=DATE:20181027
URL:http://www.schachklub-joehlingen.de/turnier/1819/Vereinsturnier?mp=vere
 in18_19
SUMMARY:Vereinsturnier Runde 3
CLASS:PUBLIC
X-MICROSOFT-CDO-ALLDAYEVENT:TRUE
DTSTAMP:20260419T201243Z
END:VEVENT
BEGIN:VEVENT
UID:af0cfae7-5c82-4bcf-9d3d-d2847bbfc2fb
DTSTART;VALUE=DATE:20181102
SEQUENCE:0
TRANSP:OPAQUE
DTEND;VALUE=DATE:20181103
URL:http://www.schachklub-joehlingen.de/turnier/1819/Vereinsturnier?mp=vere
 in18_19
SUMMARY:Nachholabend
CLASS:PUBLIC
X-MICROSOFT-CDO-ALLDAYEVENT:TRUE
DTSTAMP:20260419T201243Z
END:VEVENT
BEGIN:VEVENT
UID:af0cfae7-5c82-4bcf-9d3d-d2847bbfc303
DTSTART;VALUE=DATE:20181109
SEQUENCE:0
TRANSP:OPAQUE
DTEND;VALUE=DATE:20181110
URL:http://www.schachklub-joehlingen.de/turnier/1819/Vereinsturnier?mp=vere
 in18_19
SUMMARY:Vereinsturnier Runde 4
CLASS:PUBLIC
X-MICROSOFT-CDO-ALLDAYEVENT:TRUE
DTSTAMP:20260419T201243Z
END:VEVENT
BEGIN:VEVENT
UID:af0cfae7-5c82-4bcf-9d3d-d2847bbfc2fc
DTSTART;VALUE=DATE:20181116
SEQUENCE:0
TRANSP:OPAQUE
DTEND;VALUE=DATE:20181117
URL:http://www.schachklub-joehlingen.de/turnier/1819/Vereinsturnier?mp=vere
 in18_19
SUMMARY:Nachholabend
CLASS:PUBLIC
X-MICROSOFT-CDO-ALLDAYEVENT:TRUE
DTSTAMP:20260419T201243Z
END:VEVENT
BEGIN:VEVENT
UID:af0cfae7-5c82-4bcf-9d3d-d2847bbfc2fd
DTSTART;VALUE=DATE:20181130
SEQUENCE:0
TRANSP:OPAQUE
DTEND;VALUE=DATE:20181201
URL:http://www.schachklub-joehlingen.de/turnier/1819/Vereinsturnier?mp=vere
 in18_19
SUMMARY:Vereinsturnier Runde 5
CLASS:PUBLIC
X-MICROSOFT-CDO-ALLDAYEVENT:TRUE
DTSTAMP:20260419T201243Z
END:VEVENT
BEGIN:VEVENT
UID:af0cfae7-5c82-4bcf-9d3d-d2847bbfc305
DTSTART;VALUE=DATE:20181207
SEQUENCE:0
TRANSP:OPAQUE
DTEND;VALUE=DATE:20181208
URL:http://www.schachklub-joehlingen.de/turnier/1819/Vereinsturnier?mp=vere
 in18_19
SUMMARY:Nachholabend
CLASS:PUBLIC
X-MICROSOFT-CDO-ALLDAYEVENT:TRUE
DTSTAMP:20260419T201243Z
END:VEVENT
BEGIN:VEVENT
UID:af0cfae7-5c82-4bcf-9d3d-d2847bbfc306
DTSTART;VALUE=DATE:20181221
SEQUENCE:0
TRANSP:OPAQUE
DTEND;VALUE=DATE:20181222
URL:http://www.schachklub-joehlingen.de/turnier/1819/Vereinsturnier?mp=vere
 in18_19
SUMMARY:Nachholabend
CLASS:PUBLIC
X-MICROSOFT-CDO-ALLDAYEVENT:TRUE
DTSTAMP:20260419T201243Z
END:VEVENT
END:VCALENDAR