BEGIN:VCALENDAR
VERSION:2.0
PRODID:www.schachklub-joehlingen.de
BEGIN:VEVENT
UID:af0cfae7-5c82-4bcf-9d3d-d2847bbfc2fa
DTSTART;VALUE=DATE:20181019
SEQUENCE:0
TRANSP:OPAQUE
DTEND;VALUE=DATE:20181020
URL:http://www.schachklub-joehlingen.de/turnier/1819/Pokalturnier?mp=pokal_
 1819
SUMMARY:Pokalturnier Runde 1
CLASS:PUBLIC
X-MICROSOFT-CDO-ALLDAYEVENT:TRUE
DTSTAMP:20260419T201910Z
END:VEVENT
BEGIN:VEVENT
UID:af0cfae7-5c82-4bcf-9d3d-d2847bbfc304
DTSTART;VALUE=DATE:20181123
SEQUENCE:0
TRANSP:OPAQUE
DTEND;VALUE=DATE:20181124
URL:http://www.schachklub-joehlingen.de/turnier/1819/Pokalturnier?mp=pokal_
 1819
SUMMARY:Pokalturnier Runde 2
CLASS:PUBLIC
X-MICROSOFT-CDO-ALLDAYEVENT:TRUE
DTSTAMP:20260419T201910Z
END:VEVENT
BEGIN:VEVENT
UID:af0cfae7-5c82-4bcf-9d3d-d2847bbfc2fe
DTSTART;VALUE=DATE:20181221
SEQUENCE:0
TRANSP:OPAQUE
DTEND;VALUE=DATE:20181222
URL:http://www.schachklub-joehlingen.de/turnier/1819/Pokalturnier?mp=pokal_
 1819
SUMMARY:Pokalturnier Runde 3
CLASS:PUBLIC
X-MICROSOFT-CDO-ALLDAYEVENT:TRUE
DTSTAMP:20260419T201910Z
END:VEVENT
END:VCALENDAR